BEGIN:VCALENDAR
VERSION:2.0
PRODID:-//RIGHTHERE//CALENDARIZE IT V3.2//EN
BEGIN:VEVENT
UID:740-events@downtownlawnbowling.ca
DTSTART:20250514T233000Z
DTEND:20250515T020000Z
DTSTAMP:20250510T190455Z
SUMMARY:Cards
RRULE:FREQ=WEEKLY;INTERVAL=1;BYMONTH=5,6,7,8,9;BYDAY=WE;WKST=SU
EXDATE:20260701T233000Z
URL:https://downtownlawnbowling.ca/events/cards/
END:VEVENT
END:VCALENDAR